BEGIN:VCALENDAR
VERSION:2.0
PRODID:-//Polska Akademia Nauk - ECPv6.9.1//NONSGML v1.0//EN
CALSCALE:GREGORIAN
METHOD:PUBLISH
X-WR-CALNAME:Polska Akademia Nauk
X-ORIGINAL-URL:https://pan.pl
X-WR-CALDESC:Events for Polska Akademia Nauk
REFRESH-INTERVAL;VALUE=DURATION:PT1H
X-Robots-Tag:noindex
X-PUBLISHED-TTL:PT1H
BEGIN:VTIMEZONE
TZID:UTC
BEGIN:STANDARD
TZOFFSETFROM:+0000
TZOFFSETTO:+0000
TZNAME:UTC
DTSTART:20240101T000000
END:STANDARD
END:VTIMEZONE
BEGIN:VEVENT
DTSTART;TZID=UTC:20240320T090000
DTEND;TZID=UTC:20240320T160000
DTSTAMP:20260420T002824
CREATED:20240301T133039Z
LAST-MODIFIED:20240513T195356Z
UID:6186-1710925200-1710950400@pan.pl
SUMMARY:Targi LABS EXPO 2024
DESCRIPTION:
URL:https://pan.pl/wydarzenie/targi-labs-expo-2024-2/
LOCATION:Międzynarodowe Targi Poznańskie\, ul. Głogowska 14\, Poznań\, wielkopolskie\, Poland
CATEGORIES:Wszystkie
ATTACH;FMTTYPE=image/jpeg:https://pan.pl/app/uploads/2024/03/LE_24_1920x1080_low.jpg
ORGANIZER;CN="Nowy Adres sp. z o.o.":MAILTO:kontakt@nowyadres.pl
END:VEVENT
END:VCALENDAR