BEGIN:VCALENDAR
VERSION:2.0
PRODID:-//Polska Akademia Nauk - ECPv6.9.1//NONSGML v1.0//EN
CALSCALE:GREGORIAN
METHOD:PUBLISH
X-ORIGINAL-URL:https://pan.pl
X-WR-CALDESC:Events for Polska Akademia Nauk
REFRESH-INTERVAL;VALUE=DURATION:PT1H
X-Robots-Tag:noindex
X-PUBLISHED-TTL:PT1H
BEGIN:VTIMEZONE
TZID:UTC
BEGIN:STANDARD
TZOFFSETFROM:+0000
TZOFFSETTO:+0000
TZNAME:UTC
DTSTART:20240101T000000
END:STANDARD
END:VTIMEZONE
BEGIN:VEVENT
DTSTART;TZID=UTC:20240423T110000
DTEND;TZID=UTC:20240423T130000
DTSTAMP:20260424T144945
CREATED:20240409T110545Z
LAST-MODIFIED:20240513T195356Z
UID:6555-1713870000-1713877200@pan.pl
SUMMARY:Seminar: “From Mars to Venus: Navigating the Democratic Divide between Western and Eastern Europe” by Dr. Katarzyna Grzybowska-Walecka
DESCRIPTION:
URL:https://pan.pl/wydarzenie/seminar-from-mars-to-venus-navigating-the-democratic-divide-between-western-and-eastern-europe-by-dr-katarzyna-grzybowska-walecka/
LOCATION:spotkanie online
CATEGORIES:Wszystkie
ATTACH;FMTTYPE=image/png:https://pan.pl/app/uploads/2024/04/obrz_wydarzenie_dev2.png
ORGANIZER;CN="Instytut Filozofii i Socjologii PAN":MAILTO:secretar@ifispan.edu.pl
END:VEVENT
END:VCALENDAR