BEGIN:VCALENDAR
VERSION:2.0
PRODID:-//Polska Akademia Nauk - ECPv6.9.1//NONSGML v1.0//EN
CALSCALE:GREGORIAN
METHOD:PUBLISH
X-ORIGINAL-URL:https://pan.pl
X-WR-CALDESC:Events for Polska Akademia Nauk
REFRESH-INTERVAL;VALUE=DURATION:PT1H
X-Robots-Tag:noindex
X-PUBLISHED-TTL:PT1H
BEGIN:VTIMEZONE
TZID:UTC
BEGIN:STANDARD
TZOFFSETFROM:+0000
TZOFFSETTO:+0000
TZNAME:UTC
DTSTART:20240101T000000
END:STANDARD
END:VTIMEZONE
BEGIN:VEVENT
DTSTART;TZID=UTC:20240523T110000
DTEND;TZID=UTC:20240523T130000
DTSTAMP:20260422T185418
CREATED:20240517T135525Z
LAST-MODIFIED:20240517T135525Z
UID:7170-1716462000-1716469200@pan.pl
SUMMARY:INE PAN: referat „Polityka populistyczna okresu 2016–2023 w oczach polskiego biznesu”
DESCRIPTION:
URL:https://pan.pl/wydarzenie/ine-pan-referat-polityka-populistyczna-okresu-2016-2023-w-oczach-polskiego-biznesu/
LOCATION:Pałac Kultury i Nauki\, Plac Defilad 1\, Warszawa\, Mazowieckie\, 00-901\, Poland
CATEGORIES:Wszystkie
ORGANIZER;CN="Instytut Nauk Ekonomicznych PAN":MAILTO:inepan@inepan.waw.pl
END:VEVENT
BEGIN:VEVENT
DTSTART;TZID=UTC:20240523T120000
DTEND;TZID=UTC:20240523T130000
DTSTAMP:20260422T185418
CREATED:20240517T133710Z
LAST-MODIFIED:20240517T133710Z
UID:7163-1716465600-1716469200@pan.pl
SUMMARY:Seminarium: Zielone prawosławie: ekologiczne nawrócenie Kościołów prawosławnych
DESCRIPTION:
URL:https://pan.pl/wydarzenie/seminarium-zielone-prawoslawie-ekologiczne-nawrocenie-kosciolow-prawoslawnych/
LOCATION:spotkanie online
CATEGORIES:Wszystkie
ATTACH;FMTTYPE=image/jpeg:https://pan.pl/app/uploads/2024/05/Medvedeva-Green-Orthodoxy-Ecological-Conversion-of-Eastern-Orthodox-Churches-002.jpg
ORGANIZER;CN="Instytut Filozofii i Socjologii PAN":MAILTO:secretar@ifispan.edu.pl
END:VEVENT
END:VCALENDAR