BEGIN:VCALENDAR
VERSION:2.0
PRODID:-//Polska Akademia Nauk - ECPv6.9.1//NONSGML v1.0//EN
CALSCALE:GREGORIAN
METHOD:PUBLISH
X-WR-CALNAME:Polska Akademia Nauk
X-ORIGINAL-URL:https://pan.pl
X-WR-CALDESC:Events for Polska Akademia Nauk
REFRESH-INTERVAL;VALUE=DURATION:PT1H
X-Robots-Tag:noindex
X-PUBLISHED-TTL:PT1H
BEGIN:VTIMEZONE
TZID:UTC
BEGIN:STANDARD
TZOFFSETFROM:+0000
TZOFFSETTO:+0000
TZNAME:UTC
DTSTART:20240101T000000
END:STANDARD
END:VTIMEZONE
BEGIN:VEVENT
DTSTART;TZID=UTC:20240524T150000
DTEND;TZID=UTC:20240524T170000
DTSTAMP:20260422T170440
CREATED:20240517T134723Z
LAST-MODIFIED:20240517T134723Z
UID:7166-1716562800-1716570000@pan.pl
SUMMARY:Debata: „Na pograniczach czasów i przestrzeni\, terytoriów i kultur...”
DESCRIPTION:
URL:https://pan.pl/wydarzenie/debata-na-pograniczach-czasow-i-przestrzeni-terytoriow-i-kultur/
LOCATION:Pałac Kultury i Nauki\, Plac Defilad 1\, Warszawa\, Mazowieckie\, 00-901\, Poland
CATEGORIES:Wszystkie
ATTACH;FMTTYPE=image/png:https://pan.pl/app/uploads/2024/05/Zaproszenie-na-Targi-Ksiazki.png
ORGANIZER;CN="Instytut Slawistyki PAN":MAILTO:sekretariat@ispan.edu.pl
END:VEVENT
END:VCALENDAR