BEGIN:VCALENDAR
VERSION:2.0
PRODID:-//Polska Akademia Nauk - ECPv6.9.1//NONSGML v1.0//EN
CALSCALE:GREGORIAN
METHOD:PUBLISH
X-ORIGINAL-URL:https://pan.pl
X-WR-CALDESC:Events for Polska Akademia Nauk
REFRESH-INTERVAL;VALUE=DURATION:PT1H
X-Robots-Tag:noindex
X-PUBLISHED-TTL:PT1H
BEGIN:VTIMEZONE
TZID:UTC
BEGIN:STANDARD
TZOFFSETFROM:+0000
TZOFFSETTO:+0000
TZNAME:UTC
DTSTART:20240101T000000
END:STANDARD
END:VTIMEZONE
BEGIN:VEVENT
DTSTART;TZID=UTC:20240603T110000
DTEND;TZID=UTC:20240603T130000
DTSTAMP:20260423T000931
CREATED:20240516T081635Z
LAST-MODIFIED:20240516T081716Z
UID:6934-1717412400-1717419600@pan.pl
SUMMARY:Wykład Prof. dr Claasa Nendela pt. „Predicting plant growth and yields on a larger scale – the current state of mechanistic modeling”
DESCRIPTION:
URL:https://pan.pl/wydarzenie/wyklad-prof-dr-claasa-nendela-pt-predicting-plant-growth-and-yields-on-a-larger-scale-the-current-state-of-mechanistic-modeling/
LOCATION:Instytut Agrofizyki PAN\, ul. Doświadczalna 4\, Lublin\, 20-290\, Poland
CATEGORIES:Wszystkie
ORGANIZER;CN="Instytut Agrofizyki PAN":MAILTO:sekretariat@ipan.lublin.pl
END:VEVENT
END:VCALENDAR