BEGIN:VCALENDAR
VERSION:2.0
PRODID:-//Polska Akademia Nauk - ECPv6.9.1//NONSGML v1.0//EN
CALSCALE:GREGORIAN
METHOD:PUBLISH
X-ORIGINAL-URL:https://pan.pl
X-WR-CALDESC:Events for Polska Akademia Nauk
REFRESH-INTERVAL;VALUE=DURATION:PT1H
X-Robots-Tag:noindex
X-PUBLISHED-TTL:PT1H
BEGIN:VTIMEZONE
TZID:Europe/Helsinki
BEGIN:DAYLIGHT
TZOFFSETFROM:+0200
TZOFFSETTO:+0300
TZNAME:EEST
DTSTART:20240331T010000
END:DAYLIGHT
BEGIN:STANDARD
TZOFFSETFROM:+0300
TZOFFSETTO:+0200
TZNAME:EET
DTSTART:20241027T010000
END:STANDARD
END:VTIMEZONE
BEGIN:VEVENT
DTSTART;TZID=Europe/Helsinki:20240606T103000
DTEND;TZID=Europe/Helsinki:20240606T141500
DTSTAMP:20260421T124740
CREATED:20240529T134750Z
LAST-MODIFIED:20240529T135226Z
UID:7689-1717669800-1717683300@pan.pl
SUMMARY:IBL PAN: Jakiej ewaluacji potrzebuje polska humanistyka?
DESCRIPTION:
URL:https://pan.pl/wydarzenie/ibl-pan-jakiej-ewaluacji-potrzebuje-polska-humanistyka/
LOCATION:Pałac Staszica\, Nowy Świat 72\, Warszawa\, Poland
ATTACH;FMTTYPE=image/png:https://pan.pl/app/uploads/2024/05/Zaproszenie_OPERAS-PL_jakiej-ewaluacji-potrzebuje-polska-humanistyka_biale.png
END:VEVENT
END:VCALENDAR