BEGIN:VCALENDAR
VERSION:2.0
PRODID:-//Polska Akademia Nauk - ECPv6.9.1//NONSGML v1.0//EN
CALSCALE:GREGORIAN
METHOD:PUBLISH
X-ORIGINAL-URL:https://pan.pl
X-WR-CALDESC:Events for Polska Akademia Nauk
REFRESH-INTERVAL;VALUE=DURATION:PT1H
X-Robots-Tag:noindex
X-PUBLISHED-TTL:PT1H
BEGIN:VTIMEZONE
TZID:Europe/Helsinki
BEGIN:DAYLIGHT
TZOFFSETFROM:+0200
TZOFFSETTO:+0300
TZNAME:EEST
DTSTART:20240331T010000
END:DAYLIGHT
BEGIN:STANDARD
TZOFFSETFROM:+0300
TZOFFSETTO:+0200
TZNAME:EET
DTSTART:20241027T010000
END:STANDARD
END:VTIMEZONE
BEGIN:VEVENT
DTSTART;TZID=Europe/Helsinki:20240608T100000
DTEND;TZID=Europe/Helsinki:20240608T160000
DTSTAMP:20260421T124759
CREATED:20240606T141713Z
LAST-MODIFIED:20240606T141713Z
UID:8254-1717840800-1717862400@pan.pl
SUMMARY:Warszawski Piknik Archiwalny
DESCRIPTION:
URL:https://pan.pl/wydarzenie/warszawski-piknik-archiwalny/
LOCATION:Pałac Staszica\, Nowy Świat 72\, Warszawa\, Poland
ATTACH;FMTTYPE=image/jpeg:https://pan.pl/app/uploads/2024/06/1.jpg
END:VEVENT
BEGIN:VEVENT
DTSTART;TZID=Europe/Helsinki:20240608T100000
DTEND;TZID=Europe/Helsinki:20240608T160000
DTSTAMP:20260421T124759
CREATED:20240607T141245Z
LAST-MODIFIED:20240607T141437Z
UID:8282-1717840800-1717862400@pan.pl
SUMMARY:IO PAN w Sopocie: XVI edycja Sopockiego Pikniku Naukowego
DESCRIPTION:
URL:https://pan.pl/wydarzenie/io-pan-w-sopocie-xvi-edycja-sopockiego-pikniku-naukowego/
ATTACH;FMTTYPE=image/png:https://pan.pl/app/uploads/2024/06/Plakat-2024_www.png
END:VEVENT
END:VCALENDAR