BEGIN:VCALENDAR
VERSION:2.0
PRODID:-//Polska Akademia Nauk - ECPv6.9.1//NONSGML v1.0//EN
CALSCALE:GREGORIAN
METHOD:PUBLISH
X-ORIGINAL-URL:https://pan.pl
X-WR-CALDESC:Events for Polska Akademia Nauk
REFRESH-INTERVAL;VALUE=DURATION:PT1H
X-Robots-Tag:noindex
X-PUBLISHED-TTL:PT1H
BEGIN:VTIMEZONE
TZID:Europe/Helsinki
BEGIN:DAYLIGHT
TZOFFSETFROM:+0200
TZOFFSETTO:+0300
TZNAME:EEST
DTSTART:20240331T010000
END:DAYLIGHT
BEGIN:STANDARD
TZOFFSETFROM:+0300
TZOFFSETTO:+0200
TZNAME:EET
DTSTART:20241027T010000
END:STANDARD
END:VTIMEZONE
BEGIN:VEVENT
DTSTART;TZID=Europe/Helsinki:20240617T180000
DTEND;TZID=Europe/Helsinki:20240617T190000
DTSTAMP:20260422T214047
CREATED:20240617T071754Z
LAST-MODIFIED:20240617T075130Z
UID:8506-1718647200-1718650800@pan.pl
SUMMARY:„A o tym PAN słyszał?” z prof. dr. hab. Rafałem Wigluszem
DESCRIPTION:
URL:https://pan.pl/wydarzenie/a-o-tym-pan-slyszal-z-prof-dr-hab-rafalem-wigluszem/
LOCATION:spotkanie online
ATTACH;FMTTYPE=image/jpeg:https://pan.pl/app/uploads/2023/12/Logo-PAN-podstawowe-RGB-002.jpg
END:VEVENT
END:VCALENDAR