BEGIN:VCALENDAR
VERSION:2.0
PRODID:-//Polska Akademia Nauk - ECPv6.9.1//NONSGML v1.0//EN
CALSCALE:GREGORIAN
METHOD:PUBLISH
X-WR-CALNAME:Polska Akademia Nauk
X-ORIGINAL-URL:https://pan.pl
X-WR-CALDESC:Events for Polska Akademia Nauk
REFRESH-INTERVAL;VALUE=DURATION:PT1H
X-Robots-Tag:noindex
X-PUBLISHED-TTL:PT1H
BEGIN:VTIMEZONE
TZID:Europe/Helsinki
BEGIN:DAYLIGHT
TZOFFSETFROM:+0200
TZOFFSETTO:+0300
TZNAME:EEST
DTSTART:20240331T010000
END:DAYLIGHT
BEGIN:STANDARD
TZOFFSETFROM:+0300
TZOFFSETTO:+0200
TZNAME:EET
DTSTART:20241027T010000
END:STANDARD
END:VTIMEZONE
BEGIN:VEVENT
DTSTART;TZID=Europe/Helsinki:20240822T190000
DTEND;TZID=Europe/Helsinki:20240822T200000
DTSTAMP:20260420T154122
CREATED:20240708T141232Z
LAST-MODIFIED:20240708T141232Z
UID:8777-1724353200-1724356800@pan.pl
SUMMARY:Nauka na wakacjach
DESCRIPTION:
URL:https://pan.pl/wydarzenie/nauka-na-wakacjach-8/
LOCATION:Dom Pracy Twórczej PAN w Juracie\, ul. Wojska Polskiego 5/7\, Jastarnia\, 84-141\, Poland
ATTACH;FMTTYPE=image/png:https://pan.pl/app/uploads/2024/07/jurata.png
END:VEVENT
END:VCALENDAR