BEGIN:VCALENDAR
VERSION:2.0
PRODID:-//Polska Akademia Nauk - ECPv6.9.1//NONSGML v1.0//EN
CALSCALE:GREGORIAN
METHOD:PUBLISH
X-ORIGINAL-URL:https://pan.pl
X-WR-CALDESC:Events for Polska Akademia Nauk
REFRESH-INTERVAL;VALUE=DURATION:PT1H
X-Robots-Tag:noindex
X-PUBLISHED-TTL:PT1H
BEGIN:VTIMEZONE
TZID:Europe/Helsinki
BEGIN:DAYLIGHT
TZOFFSETFROM:+0200
TZOFFSETTO:+0300
TZNAME:EEST
DTSTART:20240331T010000
END:DAYLIGHT
BEGIN:STANDARD
TZOFFSETFROM:+0300
TZOFFSETTO:+0200
TZNAME:EET
DTSTART:20241027T010000
END:STANDARD
END:VTIMEZONE
BEGIN:VEVENT
DTSTART;TZID=Europe/Helsinki:20241114T110000
DTEND;TZID=Europe/Helsinki:20241114T130000
DTSTAMP:20260424T100529
CREATED:20241108T115859Z
LAST-MODIFIED:20241108T115859Z
UID:10480-1731582000-1731589200@pan.pl
SUMMARY:INE PAN: seminarium: Oschły jak kość: jak banki radzą sobie z suszami?
DESCRIPTION:
URL:https://pan.pl/wydarzenie/ine-pan-seminarium-oschly-jak-kosc-jak-banki-radza-sobie-z-suszami/
LOCATION:Pałac Kultury i Nauki\, Plac Defilad 1\, Warszawa\, Mazowieckie\, 00-901\, Poland
ORGANIZER;CN="Instytut Nauk Ekonomicznych PAN":MAILTO:inepan@inepan.waw.pl
END:VEVENT
END:VCALENDAR