BEGIN:VCALENDAR
VERSION:2.0
PRODID:-//Polska Akademia Nauk - ECPv6.9.1//NONSGML v1.0//EN
CALSCALE:GREGORIAN
METHOD:PUBLISH
X-ORIGINAL-URL:https://pan.pl
X-WR-CALDESC:Events for Polska Akademia Nauk
REFRESH-INTERVAL;VALUE=DURATION:PT1H
X-Robots-Tag:noindex
X-PUBLISHED-TTL:PT1H
BEGIN:VTIMEZONE
TZID:Europe/Helsinki
BEGIN:DAYLIGHT
TZOFFSETFROM:+0200
TZOFFSETTO:+0300
TZNAME:EEST
DTSTART:20240331T010000
END:DAYLIGHT
BEGIN:STANDARD
TZOFFSETFROM:+0300
TZOFFSETTO:+0200
TZNAME:EET
DTSTART:20241027T010000
END:STANDARD
END:VTIMEZONE
BEGIN:VEVENT
DTSTART;TZID=Europe/Helsinki:20241125T080000
DTEND;TZID=Europe/Helsinki:20241125T170000
DTSTAMP:20260424T120646
CREATED:20241125T101208Z
LAST-MODIFIED:20241126T112801Z
UID:11026-1732521600-1732554000@pan.pl
SUMMARY:BK PAN: Na ratunek książkom. Zbiory Biblioteki Kórnickiej oraz Biblioteki Raczyńskich od XIX w. do dziś
DESCRIPTION:
URL:https://pan.pl/wydarzenie/bk-pan-na-ratunek-ksiazkom-zbiory-biblioteki-kornickiej-oraz-biblioteki-raczynskich-od-xix-w-do-dzis/
LOCATION:Pałac Działyńskich\, Stary Rynek 78/79\, Poznań\, Poland
ATTACH;FMTTYPE=image/jpeg:https://pan.pl/app/uploads/2024/11/Outlook-l33naqyj-scaled.jpg
ORGANIZER;CN="PAN Biblioteka K%C3%B3rnicka":MAILTO:sekretariat.zamek@bk.pan.pl
END:VEVENT
END:VCALENDAR