BEGIN:VCALENDAR
VERSION:2.0
PRODID:-//Polska Akademia Nauk - ECPv6.9.1//NONSGML v1.0//EN
CALSCALE:GREGORIAN
METHOD:PUBLISH
X-WR-CALNAME:Polska Akademia Nauk
X-ORIGINAL-URL:https://pan.pl
X-WR-CALDESC:Events for Polska Akademia Nauk
REFRESH-INTERVAL;VALUE=DURATION:PT1H
X-Robots-Tag:noindex
X-PUBLISHED-TTL:PT1H
BEGIN:VTIMEZONE
TZID:Europe/Helsinki
BEGIN:DAYLIGHT
TZOFFSETFROM:+0200
TZOFFSETTO:+0300
TZNAME:EEST
DTSTART:20240331T010000
END:DAYLIGHT
BEGIN:STANDARD
TZOFFSETFROM:+0300
TZOFFSETTO:+0200
TZNAME:EET
DTSTART:20241027T010000
END:STANDARD
END:VTIMEZONE
BEGIN:VEVENT
DTSTART;TZID=Europe/Helsinki:20241127T140000
DTEND;TZID=Europe/Helsinki:20241127T160000
DTSTAMP:20260419T233117
CREATED:20241126T114101Z
LAST-MODIFIED:20241126T114118Z
UID:11125-1732716000-1732723200@pan.pl
SUMMARY:IFIS: Seminar in the “Renaissance Mind” series
DESCRIPTION:
URL:https://pan.pl/wydarzenie/ifis-seminar-in-the-renaissance-mind-series/
LOCATION:spotkanie online
CATEGORIES:Wszystkie
ORGANIZER;CN="Instytut Filozofii i Socjologii PAN":MAILTO:secretar@ifispan.edu.pl
END:VEVENT
BEGIN:VEVENT
DTSTART;TZID=Europe/Helsinki:20241127T170000
DTEND;TZID=Europe/Helsinki:20241127T190000
DTSTAMP:20260419T233117
CREATED:20241126T104330Z
LAST-MODIFIED:20241126T104650Z
UID:11119-1732726800-1732734000@pan.pl
SUMMARY:IFIS PAN: Seminarium z cyklu Heglowska fenomenologia
DESCRIPTION:
URL:https://pan.pl/wydarzenie/ifis-pan-seminarium-z-cyklu-heglowska-fenomenologia/
CATEGORIES:Wszystkie
ORGANIZER;CN="Instytut Filozofii i Socjologii PAN":MAILTO:secretar@ifispan.edu.pl
END:VEVENT
END:VCALENDAR