BEGIN:VCALENDAR
VERSION:2.0
PRODID:-//Polska Akademia Nauk - ECPv6.9.1//NONSGML v1.0//EN
CALSCALE:GREGORIAN
METHOD:PUBLISH
X-ORIGINAL-URL:https://pan.pl
X-WR-CALDESC:Events for Polska Akademia Nauk
REFRESH-INTERVAL;VALUE=DURATION:PT1H
X-Robots-Tag:noindex
X-PUBLISHED-TTL:PT1H
BEGIN:VTIMEZONE
TZID:Europe/Helsinki
BEGIN:DAYLIGHT
TZOFFSETFROM:+0200
TZOFFSETTO:+0300
TZNAME:EEST
DTSTART:20240331T010000
END:DAYLIGHT
BEGIN:STANDARD
TZOFFSETFROM:+0300
TZOFFSETTO:+0200
TZNAME:EET
DTSTART:20241027T010000
END:STANDARD
END:VTIMEZONE
BEGIN:VEVENT
DTSTART;TZID=Europe/Helsinki:20241211T170000
DTEND;TZID=Europe/Helsinki:20241212T190000
DTSTAMP:20260425T070215
CREATED:20241210T065855Z
LAST-MODIFIED:20241210T070625Z
UID:11448-1733936400-1734030000@pan.pl
SUMMARY:IFIS: Seminarium z cyklu Heglowska fenomenologia ducha
DESCRIPTION:
URL:https://pan.pl/wydarzenie/ifis-seminarium-z-cyklu-heglowska-fenomenologia-ducha/
LOCATION:spotkanie online
CATEGORIES:Wszystkie
ORGANIZER;CN="Instytut Filozofii i Socjologii PAN":MAILTO:secretar@ifispan.edu.pl
END:VEVENT
BEGIN:VEVENT
DTSTART;TZID=Europe/Helsinki:20241211T180000
DTEND;TZID=Europe/Helsinki:20241212T200000
DTSTAMP:20260425T070215
CREATED:20241210T070148Z
LAST-MODIFIED:20241210T070633Z
UID:11450-1733940000-1734033600@pan.pl
SUMMARY:IFIS: Seminarium z cyklu Świadectwa wojny
DESCRIPTION:
URL:https://pan.pl/wydarzenie/ifis-seminarium-z-cyklu-swiadectwa-wojny/
LOCATION:spotkanie online
CATEGORIES:Wszystkie
ORGANIZER;CN="Instytut Filozofii i Socjologii PAN":MAILTO:secretar@ifispan.edu.pl
END:VEVENT
BEGIN:VEVENT
DTSTART;TZID=Europe/Helsinki:20241212T170000
DTEND;TZID=Europe/Helsinki:20241212T190000
DTSTAMP:20260425T070215
CREATED:20241205T135713Z
LAST-MODIFIED:20241205T135713Z
UID:11379-1734022800-1734030000@pan.pl
SUMMARY:Wykład prof. Magdaleny Januszewicz: Od diagnostyki do terapii – czym jest aktualnie radiologia interwencyjna?
DESCRIPTION:
URL:https://pan.pl/wydarzenie/wyklad-prof-magdaleny-januszewicz-od-diagnostyki-do-terapii-czym-jest-aktualnie-radiologia-interwencyjna/
LOCATION:Polska Akademia Nauk\, pl. Defilad 1\, Warszawa\, mazowieckie\, 00-901\, Poland
ATTACH;FMTTYPE=image/jpeg:https://pan.pl/app/uploads/2024/12/Baner_Januszewicz_A2_03.12.24.jpg
END:VEVENT
END:VCALENDAR