BEGIN:VCALENDAR
VERSION:2.0
PRODID:-//Polska Akademia Nauk - ECPv6.9.1//NONSGML v1.0//EN
CALSCALE:GREGORIAN
METHOD:PUBLISH
X-WR-CALNAME:Polska Akademia Nauk
X-ORIGINAL-URL:https://pan.pl
X-WR-CALDESC:Events for Polska Akademia Nauk
REFRESH-INTERVAL;VALUE=DURATION:PT1H
X-Robots-Tag:noindex
X-PUBLISHED-TTL:PT1H
BEGIN:VTIMEZONE
TZID:Europe/Helsinki
BEGIN:DAYLIGHT
TZOFFSETFROM:+0200
TZOFFSETTO:+0300
TZNAME:EEST
DTSTART:20250330T010000
END:DAYLIGHT
BEGIN:STANDARD
TZOFFSETFROM:+0300
TZOFFSETTO:+0200
TZNAME:EET
DTSTART:20251026T010000
END:STANDARD
END:VTIMEZONE
BEGIN:VEVENT
DTSTART;TZID=Europe/Helsinki:20250204T120000
DTEND;TZID=Europe/Helsinki:20250204T140000
DTSTAMP:20260420T122844
CREATED:20250204T120449Z
LAST-MODIFIED:20250204T122131Z
UID:11863-1738670400-1738677600@pan.pl
SUMMARY:IFiS PAN: Referat p.t. „WIELKIE WYMIERANIE. Nowa wyobraźnia wymierania w kulturze post-ponowoczesnej"
DESCRIPTION:
URL:https://pan.pl/wydarzenie/ifis-pan-referat-p-t-wielkie-wymieranie-nowa-wyobraznia-wymierania-w-kulturze-post-ponowoczesnej/
LOCATION:Pałac Staszica\, Nowy Świat 72\, Warszawa\, Poland
CATEGORIES:Wszystkie
ATTACH;FMTTYPE=image/jpeg:https://pan.pl/app/uploads/2025/02/Plakat-kosci-dinozaurow-002-2.jpg
ORGANIZER;CN="Instytut Filozofii i Socjologii PAN":MAILTO:secretar@ifispan.edu.pl
END:VEVENT
BEGIN:VEVENT
DTSTART;TZID=Europe/Helsinki:20250204T163000
DTEND;TZID=Europe/Helsinki:20250204T180000
DTSTAMP:20260420T122844
CREATED:20250228T102439Z
LAST-MODIFIED:20250228T102439Z
UID:12730-1738686600-1738692000@pan.pl
SUMMARY:IFiS PAN: Seminarium Filozoficzno-Translatorskie: Corpus Platonicum poświęcone będzie Epinomis
DESCRIPTION:
URL:https://pan.pl/wydarzenie/ifis-pan-seminarium-filozoficzno-translatorskie-corpus-platonicum-poswiecone-bedzie-epinomis/
LOCATION:Pałac Staszica\, Nowy Świat 72\, Warszawa\, Poland
CATEGORIES:Wszystkie
ORGANIZER;CN="Instytut Filozofii i Socjologii PAN":MAILTO:secretar@ifispan.edu.pl
END:VEVENT
END:VCALENDAR