BEGIN:VCALENDAR
VERSION:2.0
PRODID:-//Polska Akademia Nauk - ECPv6.9.1//NONSGML v1.0//EN
CALSCALE:GREGORIAN
METHOD:PUBLISH
X-ORIGINAL-URL:https://pan.pl
X-WR-CALDESC:Events for Polska Akademia Nauk
REFRESH-INTERVAL;VALUE=DURATION:PT1H
X-Robots-Tag:noindex
X-PUBLISHED-TTL:PT1H
BEGIN:VTIMEZONE
TZID:Europe/Helsinki
BEGIN:DAYLIGHT
TZOFFSETFROM:+0200
TZOFFSETTO:+0300
TZNAME:EEST
DTSTART:20250330T010000
END:DAYLIGHT
BEGIN:STANDARD
TZOFFSETFROM:+0300
TZOFFSETTO:+0200
TZNAME:EET
DTSTART:20251026T010000
END:STANDARD
END:VTIMEZONE
BEGIN:VEVENT
DTSTART;TZID=Europe/Helsinki:20250224T150000
DTEND;TZID=Europe/Helsinki:20250224T170000
DTSTAMP:20260420T081349
CREATED:20250219T085550Z
LAST-MODIFIED:20250219T085550Z
UID:12509-1740409200-1740416400@pan.pl
SUMMARY:IFiS PAN: Seminarium z cyklu „Lokalne\, regionalne\, krajowe i ponadnarodowe: cztery spojrzenia na zmianę społeczną i ład społeczny"
DESCRIPTION:
URL:https://pan.pl/wydarzenie/ifis-pan-seminarium-z-cyklu-lokalne-regionalne-krajowe-i-ponadnarodowe-cztery-spojrzenia-na-zmiane-spoleczna-i-lad-spoleczny/
LOCATION:spotkanie online
CATEGORIES:Wszystkie
ORGANIZER;CN="Instytut Filozofii i Socjologii PAN":MAILTO:secretar@ifispan.edu.pl
END:VEVENT
BEGIN:VEVENT
DTSTART;TZID=Europe/Helsinki:20250224T170000
DTEND;TZID=Europe/Helsinki:20250224T190000
DTSTAMP:20260420T081349
CREATED:20250211T144456Z
LAST-MODIFIED:20250217T151557Z
UID:12332-1740416400-1740423600@pan.pl
SUMMARY:„Język a tożsamość” – 9. Poznańska Debata o Języku im. prof. Tadeusza Zgółki
DESCRIPTION:
URL:https://pan.pl/wydarzenie/jezyk-a-tozsamosc-poznanska-debata-o-jezyku-im-prof-tadeusza-zgolki/
LOCATION:Centrum Kultury ZAMEK w Poznaniu\, Św. Marcin 80/82\, Poznań\, 61-809\, Poland
ATTACH;FMTTYPE=image/jpeg:https://pan.pl/app/uploads/2025/02/debata25_820x312-scaled.jpg
ORGANIZER;CN="Rada J%C4%99zyka Polskiego przy Prezydium PAN":MAILTO:rjp@pan.pl
END:VEVENT
END:VCALENDAR