BEGIN:VCALENDAR
VERSION:2.0
PRODID:-//Polska Akademia Nauk - ECPv6.9.1//NONSGML v1.0//EN
CALSCALE:GREGORIAN
METHOD:PUBLISH
X-WR-CALNAME:Polska Akademia Nauk
X-ORIGINAL-URL:https://pan.pl
X-WR-CALDESC:Events for Polska Akademia Nauk
REFRESH-INTERVAL;VALUE=DURATION:PT1H
X-Robots-Tag:noindex
X-PUBLISHED-TTL:PT1H
BEGIN:VTIMEZONE
TZID:Europe/Helsinki
BEGIN:DAYLIGHT
TZOFFSETFROM:+0200
TZOFFSETTO:+0300
TZNAME:EEST
DTSTART:20250330T010000
END:DAYLIGHT
BEGIN:STANDARD
TZOFFSETFROM:+0300
TZOFFSETTO:+0200
TZNAME:EET
DTSTART:20251026T010000
END:STANDARD
END:VTIMEZONE
BEGIN:VEVENT
DTSTART;TZID=Europe/Helsinki:20250310T160000
DTEND;TZID=Europe/Helsinki:20250314T180000
DTSTAMP:20260420T154050
CREATED:20250225T120259Z
LAST-MODIFIED:20250225T120655Z
UID:12662-1741622400-1741975200@pan.pl
SUMMARY:16. Światowy Tydzień Mózgu w Poznaniu - Odkrywaj z nami tajemnice mózgu
DESCRIPTION:
URL:https://pan.pl/wydarzenie/16-swiatowy-tydzien-mozgu-w-poznaniu-odkrywaj-z-nami-tajemnice-mozgu/
LOCATION:Poznań\, Pałac Działyńskich – Sala Turkusowa\, Stary Rynek 78/79.\, Stary Rynek 78/79\, Poznań\, Poland
ATTACH;FMTTYPE=image/jpeg:https://pan.pl/app/uploads/2025/02/tydzien-mozgu-Poznan.jpg
END:VEVENT
BEGIN:VEVENT
DTSTART;VALUE=DATE:20250314
DTEND;VALUE=DATE:20250315
DTSTAMP:20260420T154050
CREATED:20250310T084328Z
LAST-MODIFIED:20250310T084651Z
UID:13001-1741910400-1741996799@pan.pl
SUMMARY:Dzień Liczby Pi
DESCRIPTION:Dzień Liczby Pi
URL:https://pan.pl/wydarzenie/dzien-liczby-pi/
END:VEVENT
BEGIN:VEVENT
DTSTART;TZID=Europe/Helsinki:20250314T113000
DTEND;TZID=Europe/Helsinki:20250314T133000
DTSTAMP:20260420T154050
CREATED:20250228T112830Z
LAST-MODIFIED:20250312T125851Z
UID:12751-1741951800-1741959000@pan.pl
SUMMARY:IFiS PAN: Seminarium Modele i aspekty podmiotowości
DESCRIPTION:
URL:https://pan.pl/wydarzenie/ifis-pan-seminarium-modele-i-aspekty-podmiotowosci/
LOCATION:spotkanie online
CATEGORIES:Wszystkie
ORGANIZER;CN="Instytut Filozofii i Socjologii PAN":MAILTO:secretar@ifispan.edu.pl
END:VEVENT
END:VCALENDAR