BEGIN:VCALENDAR
VERSION:2.0
PRODID:-//Polska Akademia Nauk - ECPv6.9.1//NONSGML v1.0//EN
CALSCALE:GREGORIAN
METHOD:PUBLISH
X-ORIGINAL-URL:https://pan.pl
X-WR-CALDESC:Events for Polska Akademia Nauk
REFRESH-INTERVAL;VALUE=DURATION:PT1H
X-Robots-Tag:noindex
X-PUBLISHED-TTL:PT1H
BEGIN:VTIMEZONE
TZID:Europe/Helsinki
BEGIN:DAYLIGHT
TZOFFSETFROM:+0200
TZOFFSETTO:+0300
TZNAME:EEST
DTSTART:20260329T010000
END:DAYLIGHT
BEGIN:STANDARD
TZOFFSETFROM:+0300
TZOFFSETTO:+0200
TZNAME:EET
DTSTART:20261025T010000
END:STANDARD
END:VTIMEZONE
BEGIN:VEVENT
DTSTART;TZID=Europe/Helsinki:20260115T110000
DTEND;TZID=Europe/Helsinki:20260219T130000
DTSTAMP:20260422T023240
CREATED:20260213T114028Z
LAST-MODIFIED:20260213T114028Z
UID:18134-1768474800-1771506000@pan.pl
SUMMARY:INE PAN: Seminarium "State ownership\, probability of informed trading\, and profitability potential: Evidence from the Warsaw Stock Exchange"
DESCRIPTION:
URL:https://pan.pl/wydarzenie/ine-pan-seminarium-state-ownership-probability-of-informed-trading-and-profitability-potential-evidence-from-the-warsaw-stock-exchange/
LOCATION:Pałac Kultury i Nauki\, Plac Defilad 1\, Warszawa\, Mazowieckie\, 00-901\, Poland
END:VEVENT
BEGIN:VEVENT
DTSTART;TZID=Europe/Helsinki:20260206T130000
DTEND;TZID=Europe/Helsinki:20260320T170000
DTSTAMP:20260422T023240
CREATED:20260203T115859Z
LAST-MODIFIED:20260203T120152Z
UID:17874-1770382800-1774026000@pan.pl
SUMMARY:PAN Biblioteka Gdańska: Nowe nabytki zbiorów specjalnych
DESCRIPTION:
URL:https://pan.pl/wydarzenie/nowe-nabytki-zbiorow-specjalnych/
LOCATION:PAN Biblioteka Gdańska\, ul. Wałowa 24\, Gdańsk\, Poland
ATTACH;FMTTYPE=image/svg+xml:https://pan.pl/app/uploads/2026/02/nowe_nabytki_BG.svg
END:VEVENT
BEGIN:VEVENT
DTSTART;TZID=Europe/Helsinki:20260209T150000
DTEND;TZID=Europe/Helsinki:20260408T170000
DTSTAMP:20260422T023240
CREATED:20260203T120532Z
LAST-MODIFIED:20260203T120532Z
UID:17880-1770649200-1775667600@pan.pl
SUMMARY:PAN Biblioteka Gdańska: Wystawa „100 lat Gdynio”
DESCRIPTION:
URL:https://pan.pl/wydarzenie/pan-biblioteka-gdanska-wystawa-100-lat-gdynio/
LOCATION:PAN Biblioteka Gdańska\, ul. Wałowa 24\, Gdańsk\, Poland
ATTACH;FMTTYPE=image/svg+xml:https://pan.pl/app/uploads/2026/02/sto_lat_gdynio_BG.svg
END:VEVENT
BEGIN:VEVENT
DTSTART;TZID=Europe/Helsinki:20260218T170000
DTEND;TZID=Europe/Helsinki:20260218T200000
DTSTAMP:20260422T023240
CREATED:20260206T111006Z
LAST-MODIFIED:20260206T111037Z
UID:17921-1771434000-1771444800@pan.pl
SUMMARY:RJP PAN: 10. Poznańska Debata o Języku im. Tadeusza Zgółki „Język a sztuczna inteligencja”
DESCRIPTION:
URL:https://pan.pl/wydarzenie/rjp-pan-10-poznanska-debata-o-jezyku-im-tadeusza-zgolki-jezyk-a-sztuczna-inteligencja/
LOCATION:Centrum Kultury ZAMEK w Poznaniu\, Św. Marcin 80/82\, Poznań\, 61-809\, Poland
ATTACH;FMTTYPE=image/svg+xml:https://pan.pl/app/uploads/2026/02/debata-2025_fb_1200x628.svg
ORGANIZER;CN="Rada J%C4%99zyka Polskiego przy Prezydium PAN":MAILTO:rjp@pan.pl
END:VEVENT
END:VCALENDAR