BEGIN:VCALENDAR
VERSION:2.0
PRODID:-//Polska Akademia Nauk - ECPv6.9.1//NONSGML v1.0//EN
CALSCALE:GREGORIAN
METHOD:PUBLISH
X-WR-CALNAME:Polska Akademia Nauk
X-ORIGINAL-URL:https://pan.pl
X-WR-CALDESC:Events for Polska Akademia Nauk
REFRESH-INTERVAL;VALUE=DURATION:PT1H
X-Robots-Tag:noindex
X-PUBLISHED-TTL:PT1H
BEGIN:VTIMEZONE
TZID:Europe/Helsinki
BEGIN:DAYLIGHT
TZOFFSETFROM:+0200
TZOFFSETTO:+0300
TZNAME:EEST
DTSTART:20250330T010000
END:DAYLIGHT
BEGIN:STANDARD
TZOFFSETFROM:+0300
TZOFFSETTO:+0200
TZNAME:EET
DTSTART:20251026T010000
END:STANDARD
END:VTIMEZONE
BEGIN:VEVENT
DTSTART;VALUE=DATE:20250722
DTEND;VALUE=DATE:20250725
DTSTAMP:20260423T011522
CREATED:20250616T134751Z
LAST-MODIFIED:20250616T134751Z
UID:14931-1753142400-1753401599@pan.pl
SUMMARY:6. Środkowoeuropejski Kongres Biomedyczny – CEBC 2025
DESCRIPTION:
URL:https://pan.pl/wydarzenie/6-srodkowoeuropejski-kongres-biomedyczny-cebc-2025/
LOCATION:Auditorium Maximum Unwiersytetu Jagiellońskiego\, ul. Krupnicza 33\, Kraków\, 31-123\, Poland
ATTACH;FMTTYPE=image/png:https://pan.pl/app/uploads/2025/06/baner.png
ORGANIZER;CN="Instytut Farmakologii im. Jerzego Maja PAN":MAILTO:ifpan@if-pan.krakow.pl
END:VEVENT
BEGIN:VEVENT
DTSTART;TZID=Europe/Helsinki:20251023T180000
DTEND;TZID=Europe/Helsinki:20251023T200000
DTSTAMP:20260423T011522
CREATED:20251001T104115Z
LAST-MODIFIED:20251001T104115Z
UID:16619-1761242400-1761249600@pan.pl
SUMMARY:Rzym: Reducing Political Hostility: Insights from Poland’s 2025 Election Experiment/Ograniczanie wrogości politycznej: wnioski z eksperymentu wyborczego w Polsce 2025
DESCRIPTION:
URL:https://pan.pl/wydarzenie/rzym-reducing-political-hostility-insights-from-polands-2025-election-experiment-ograniczanie-wrogosci-politycznej-wnioski-z-eksperymentu-wyborczego-w-polsce-2025/
LOCATION:Stacja Naukowa w Rzymie\, Vicolo Doria 2\, Rzym\, 00187\, Italy
ORGANIZER;CN="Stacja Naukowa w Rzymie":MAILTO:accademia@pan.pl
END:VEVENT
BEGIN:VEVENT
DTSTART;VALUE=DATE:20251113
DTEND;VALUE=DATE:20251114
DTSTAMP:20260423T011522
CREATED:20250730T081542Z
LAST-MODIFIED:20251104T120921Z
UID:15676-1762992000-1763078399@pan.pl
SUMMARY:Rzym: Dyskusja popularnonaukowa o znaczeniu twórczości poetyckiej Marii Pawlikowskiej-Jasnorzewskiej. Patronat literacki 2025
DESCRIPTION:Dyskusja popularnonaukowa o znaczeniu twórczości poetyckiej Marii Pawlikowskiej-Jasnorzewskiej. Patronat literacki 2025
URL:https://pan.pl/wydarzenie/rzym-dyskusja-popularnonaukowa-o-znaczeniu-tworczosci-poetyckiej-marii-pawlikowskiej-jasnorzewskiej-patronat-literacki-2025/
LOCATION:Stacja Naukowa w Rzymie\, Vicolo Doria 2\, Rzym\, 00187\, Italy
ORGANIZER;CN="Stacja Naukowa w Rzymie":MAILTO:accademia@pan.pl
END:VEVENT
BEGIN:VEVENT
DTSTART;TZID=Europe/Helsinki:20251118T180000
DTEND;TZID=Europe/Helsinki:20251118T200000
DTSTAMP:20260423T011522
CREATED:20251104T121943Z
LAST-MODIFIED:20251104T121943Z
UID:17020-1763488800-1763496000@pan.pl
SUMMARY:Berlin: Odbudowa Warszawy wciąż trwa. Pałac Saski i zachodnia pierzeja placu Piłsudskiego – historia i przyszłość. Wykład z cyklu seminariów Klaus Zernack Colloqium 2025 „Zniszczenia wojenne\, odbudowa i transformacja” z udziałem Marii Wardzyńskiej – koordynatora ds. naukowych Pałac Saski Sp. z.o.o oraz Tomasza Markiewicza – dziennikarza\, politologa i historyka
DESCRIPTION:
URL:https://pan.pl/wydarzenie/berlin-odbudowa-warszawy-wciaz-trwa-palac-saski-i-zachodnia-pierzeja-placu-pilsudskiego-historia-i-przyszlosc-wyklad-z-cyklu-seminariow-klaus-zernack-colloqium-2025-zniszczenia-w/
LOCATION:Centrum Badan Historycznych Polskiej Akademii Nauk w Berlinie\, Majakowskiring 47\, Berlin\, Germany
END:VEVENT
END:VCALENDAR