BEGIN:VCALENDAR
VERSION:2.0
PRODID:-//Polska Akademia Nauk - ECPv6.9.1//NONSGML v1.0//EN
CALSCALE:GREGORIAN
METHOD:PUBLISH
X-WR-CALNAME:Polska Akademia Nauk
X-ORIGINAL-URL:https://pan.pl
X-WR-CALDESC:Events for Polska Akademia Nauk
REFRESH-INTERVAL;VALUE=DURATION:PT1H
X-Robots-Tag:noindex
X-PUBLISHED-TTL:PT1H
BEGIN:VTIMEZONE
TZID:Europe/Helsinki
BEGIN:DAYLIGHT
TZOFFSETFROM:+0200
TZOFFSETTO:+0300
TZNAME:EEST
DTSTART:20240331T010000
END:DAYLIGHT
BEGIN:STANDARD
TZOFFSETFROM:+0300
TZOFFSETTO:+0200
TZNAME:EET
DTSTART:20241027T010000
END:STANDARD
BEGIN:DAYLIGHT
TZOFFSETFROM:+0200
TZOFFSETTO:+0300
TZNAME:EEST
DTSTART:20250330T010000
END:DAYLIGHT
BEGIN:STANDARD
TZOFFSETFROM:+0300
TZOFFSETTO:+0200
TZNAME:EET
DTSTART:20251026T010000
END:STANDARD
END:VTIMEZONE
BEGIN:VEVENT
DTSTART;TZID=Europe/Helsinki:20250218T110000
DTEND;TZID=Europe/Helsinki:20250218T140000
DTSTAMP:20260420T092617
CREATED:20240920T124209Z
LAST-MODIFIED:20250204T145810Z
UID:9857-1739876400-1739887200@pan.pl
SUMMARY:Prezydium PAN
DESCRIPTION:
URL:https://pan.pl/wydarzenie/prezydium-pan-6/
LOCATION:Pałac Staszica\, Nowy Świat 72\, Warszawa\, Poland
ATTACH;FMTTYPE=image/jpeg:https://pan.pl/app/uploads/2024/06/prezydium_calendar.jpg
END:VEVENT
BEGIN:VEVENT
DTSTART;VALUE=DATE:20250121
DTEND;VALUE=DATE:20250122
DTSTAMP:20260420T092617
CREATED:20240920T124053Z
LAST-MODIFIED:20240920T124126Z
UID:9854-1737417600-1737503999@pan.pl
SUMMARY:Prezydium PAN
DESCRIPTION:
URL:https://pan.pl/wydarzenie/prezydium-pan-5/
ATTACH;FMTTYPE=image/jpeg:https://pan.pl/app/uploads/2024/06/prezydium_calendar.jpg
END:VEVENT
BEGIN:VEVENT
DTSTART;TZID=Europe/Helsinki:20241119T110000
DTEND;TZID=Europe/Helsinki:20241119T150000
DTSTAMP:20260420T092617
CREATED:20240604T111436Z
LAST-MODIFIED:20240604T111436Z
UID:8145-1732014000-1732028400@pan.pl
SUMMARY:Prezydium PAN
DESCRIPTION:
URL:https://pan.pl/wydarzenie/prezydium-pan-4/
LOCATION:Pałac Staszica\, Nowy Świat 72\, Warszawa\, Poland
ATTACH;FMTTYPE=image/jpeg:https://pan.pl/app/uploads/2024/06/prezydium_calendar.jpg
END:VEVENT
BEGIN:VEVENT
DTSTART;TZID=Europe/Helsinki:20241022T110000
DTEND;TZID=Europe/Helsinki:20241022T150000
DTSTAMP:20260420T092617
CREATED:20240604T111413Z
LAST-MODIFIED:20240604T111413Z
UID:8143-1729594800-1729609200@pan.pl
SUMMARY:Prezydium PAN
DESCRIPTION:
URL:https://pan.pl/wydarzenie/prezydium-pan-3/
LOCATION:Pałac Staszica\, Nowy Świat 72\, Warszawa\, Poland
ATTACH;FMTTYPE=image/jpeg:https://pan.pl/app/uploads/2024/06/prezydium_calendar.jpg
END:VEVENT
BEGIN:VEVENT
DTSTART;TZID=Europe/Helsinki:20240702T110000
DTEND;TZID=Europe/Helsinki:20240702T150000
DTSTAMP:20260420T092617
CREATED:20240604T111301Z
LAST-MODIFIED:20240604T111301Z
UID:8141-1719918000-1719932400@pan.pl
SUMMARY:Prezydium PAN
DESCRIPTION:
URL:https://pan.pl/wydarzenie/prezydium-pan-2/
LOCATION:Pałac Staszica\, Nowy Świat 72\, Warszawa\, Poland
ATTACH;FMTTYPE=image/jpeg:https://pan.pl/app/uploads/2024/06/prezydium_calendar.jpg
END:VEVENT
BEGIN:VEVENT
DTSTART;TZID=Europe/Helsinki:20240604T110000
DTEND;TZID=Europe/Helsinki:20240604T150000
DTSTAMP:20260420T092617
CREATED:20240604T110858Z
LAST-MODIFIED:20240604T111222Z
UID:8138-1717498800-1717513200@pan.pl
SUMMARY:Prezydium PAN
DESCRIPTION:
URL:https://pan.pl/wydarzenie/prezydium-pan/
LOCATION:Pałac Staszica\, Nowy Świat 72\, Warszawa\, Poland
ATTACH;FMTTYPE=image/jpeg:https://pan.pl/app/uploads/2024/06/prezydium_calendar.jpg
END:VEVENT
END:VCALENDAR