BEGIN:VCALENDAR
VERSION:2.0
PRODID:-//Polska Akademia Nauk - ECPv6.9.1//NONSGML v1.0//EN
CALSCALE:GREGORIAN
METHOD:PUBLISH
X-ORIGINAL-URL:https://pan.pl
X-WR-CALDESC:Events for Polska Akademia Nauk
REFRESH-INTERVAL;VALUE=DURATION:PT1H
X-Robots-Tag:noindex
X-PUBLISHED-TTL:PT1H
BEGIN:VTIMEZONE
TZID:Europe/Helsinki
BEGIN:DAYLIGHT
TZOFFSETFROM:+0200
TZOFFSETTO:+0300
TZNAME:EEST
DTSTART:20240331T010000
END:DAYLIGHT
BEGIN:STANDARD
TZOFFSETFROM:+0300
TZOFFSETTO:+0200
TZNAME:EET
DTSTART:20241027T010000
END:STANDARD
END:VTIMEZONE
BEGIN:VEVENT
DTSTART;TZID=Europe/Helsinki:20240801T190000
DTEND;TZID=Europe/Helsinki:20240801T200000
DTSTAMP:20260419T200241
CREATED:20240708T141142Z
LAST-MODIFIED:20240708T141142Z
UID:8771-1722538800-1722542400@pan.pl
SUMMARY:Nauka na wakacjach
DESCRIPTION:
URL:https://pan.pl/wydarzenie/nauka-na-wakacjach-5/
LOCATION:Dom Pracy Twórczej PAN w Juracie\, ul. Wojska Polskiego 5/7\, Jastarnia\, 84-141\, Poland
ATTACH;FMTTYPE=image/png:https://pan.pl/app/uploads/2024/07/jurata.png
END:VEVENT
BEGIN:VEVENT
DTSTART;VALUE=DATE:20240805
DTEND;VALUE=DATE:20240810
DTSTAMP:20260419T200241
CREATED:20240709T124938Z
LAST-MODIFIED:20240709T124938Z
UID:8819-1722816000-1723247999@pan.pl
SUMMARY:IFiS PAN: druga edycja Letniej Szkoły Filozofii
DESCRIPTION:
URL:https://pan.pl/wydarzenie/ifis-pan-druga-edycja-letniej-szkoly-filozofii/
ATTACH;FMTTYPE=image/jpeg:https://pan.pl/app/uploads/2024/07/Lifeworld-online.jpg
ORGANIZER;CN="Instytut Filozofii i Socjologii PAN":MAILTO:secretar@ifispan.edu.pl
END:VEVENT
BEGIN:VEVENT
DTSTART;TZID=Europe/Helsinki:20240808T190000
DTEND;TZID=Europe/Helsinki:20240808T200000
DTSTAMP:20260419T200241
CREATED:20240708T141157Z
LAST-MODIFIED:20240708T141157Z
UID:8773-1723143600-1723147200@pan.pl
SUMMARY:Nauka na wakacjach
DESCRIPTION:
URL:https://pan.pl/wydarzenie/nauka-na-wakacjach-6/
LOCATION:Dom Pracy Twórczej PAN w Juracie\, ul. Wojska Polskiego 5/7\, Jastarnia\, 84-141\, Poland
ATTACH;FMTTYPE=image/png:https://pan.pl/app/uploads/2024/07/jurata.png
END:VEVENT
BEGIN:VEVENT
DTSTART;TZID=Europe/Helsinki:20240815T190000
DTEND;TZID=Europe/Helsinki:20240815T200000
DTSTAMP:20260419T200241
CREATED:20240708T141217Z
LAST-MODIFIED:20240708T141217Z
UID:8775-1723748400-1723752000@pan.pl
SUMMARY:Nauka na wakacjach
DESCRIPTION:
URL:https://pan.pl/wydarzenie/nauka-na-wakacjach-7/
LOCATION:Dom Pracy Twórczej PAN w Juracie\, ul. Wojska Polskiego 5/7\, Jastarnia\, 84-141\, Poland
ATTACH;FMTTYPE=image/png:https://pan.pl/app/uploads/2024/07/jurata.png
END:VEVENT
BEGIN:VEVENT
DTSTART;TZID=Europe/Helsinki:20240822T190000
DTEND;TZID=Europe/Helsinki:20240822T200000
DTSTAMP:20260419T200241
CREATED:20240708T141232Z
LAST-MODIFIED:20240708T141232Z
UID:8777-1724353200-1724356800@pan.pl
SUMMARY:Nauka na wakacjach
DESCRIPTION:
URL:https://pan.pl/wydarzenie/nauka-na-wakacjach-8/
LOCATION:Dom Pracy Twórczej PAN w Juracie\, ul. Wojska Polskiego 5/7\, Jastarnia\, 84-141\, Poland
ATTACH;FMTTYPE=image/png:https://pan.pl/app/uploads/2024/07/jurata.png
END:VEVENT
END:VCALENDAR