BEGIN:VCALENDAR
VERSION:2.0
PRODID:-//Polska Akademia Nauk - ECPv6.9.1//NONSGML v1.0//EN
CALSCALE:GREGORIAN
METHOD:PUBLISH
X-WR-CALNAME:Polska Akademia Nauk
X-ORIGINAL-URL:https://pan.pl
X-WR-CALDESC:Events for Polska Akademia Nauk
REFRESH-INTERVAL;VALUE=DURATION:PT1H
X-Robots-Tag:noindex
X-PUBLISHED-TTL:PT1H
BEGIN:VTIMEZONE
TZID:Europe/Helsinki
BEGIN:DAYLIGHT
TZOFFSETFROM:+0200
TZOFFSETTO:+0300
TZNAME:EEST
DTSTART:20260329T010000
END:DAYLIGHT
BEGIN:STANDARD
TZOFFSETFROM:+0300
TZOFFSETTO:+0200
TZNAME:EET
DTSTART:20261025T010000
END:STANDARD
END:VTIMEZONE
BEGIN:VEVENT
DTSTART;TZID=Europe/Helsinki:20260211T130000
DTEND;TZID=Europe/Helsinki:20260211T160000
DTSTAMP:20260422T211326
CREATED:20260206T111717Z
LAST-MODIFIED:20260206T111908Z
UID:17925-1770814800-1770825600@pan.pl
SUMMARY:IGF PAN: Badaczki\, popularyzatorki i liderki – kobiety w naukach ścisłych
DESCRIPTION:
URL:https://pan.pl/wydarzenie/igf-pan-badaczki-popularyzatorki-i-liderki-kobiety-w-naukach-scislych/
LOCATION:Instytut Geofizyki Polskiej Akademii Nauk\, ul. Księcia Janusza 64\, Warszawa\, 01-452\, Poland
ATTACH;FMTTYPE=image/svg+xml:https://pan.pl/app/uploads/2026/02/Badaczki_popularyzatorki_liderki.svg
END:VEVENT
END:VCALENDAR