BEGIN:VCALENDAR
VERSION:2.0
PRODID:-//Polska Akademia Nauk - ECPv6.9.1//NONSGML v1.0//EN
CALSCALE:GREGORIAN
METHOD:PUBLISH
X-WR-CALNAME:Polska Akademia Nauk
X-ORIGINAL-URL:https://pan.pl
X-WR-CALDESC:Events for Polska Akademia Nauk
REFRESH-INTERVAL;VALUE=DURATION:PT1H
X-Robots-Tag:noindex
X-PUBLISHED-TTL:PT1H
BEGIN:VTIMEZONE
TZID:Europe/Helsinki
BEGIN:DAYLIGHT
TZOFFSETFROM:+0200
TZOFFSETTO:+0300
TZNAME:EEST
DTSTART:20260329T010000
END:DAYLIGHT
BEGIN:STANDARD
TZOFFSETFROM:+0300
TZOFFSETTO:+0200
TZNAME:EET
DTSTART:20261025T010000
END:STANDARD
END:VTIMEZONE
BEGIN:VEVENT
DTSTART;VALUE=DATE:20260329
DTEND;VALUE=DATE:20260402
DTSTAMP:20260422T223458
CREATED:20260401T145223Z
LAST-MODIFIED:20260401T145354Z
UID:18690-1774742400-1775087999@pan.pl
SUMMARY:Rzym: Bari: Wymiana studencka w ramach projektu PJP NAWA „W ziemi włoskiej po polsku…”
DESCRIPTION:
URL:https://pan.pl/wydarzenie/rzym-bari-wymiana-studencka-w-ramach-projektu-pjp-nawa-w-ziemi-wloskiej-po-polsku/
LOCATION:Bari
ORGANIZER;CN="Stacja Naukowa w Rzymie":MAILTO:accademia@pan.pl
END:VEVENT
END:VCALENDAR