BEGIN:VCALENDAR
VERSION:2.0
PRODID:-//Polska Akademia Nauk - ECPv6.9.1//NONSGML v1.0//EN
CALSCALE:GREGORIAN
METHOD:PUBLISH
X-WR-CALNAME:Polska Akademia Nauk
X-ORIGINAL-URL:https://pan.pl
X-WR-CALDESC:Events for Polska Akademia Nauk
REFRESH-INTERVAL;VALUE=DURATION:PT1H
X-Robots-Tag:noindex
X-PUBLISHED-TTL:PT1H
BEGIN:VTIMEZONE
TZID:Europe/Helsinki
BEGIN:DAYLIGHT
TZOFFSETFROM:+0200
TZOFFSETTO:+0300
TZNAME:EEST
DTSTART:20260329T010000
END:DAYLIGHT
BEGIN:STANDARD
TZOFFSETFROM:+0300
TZOFFSETTO:+0200
TZNAME:EET
DTSTART:20261025T010000
END:STANDARD
END:VTIMEZONE
BEGIN:VEVENT
DTSTART;TZID=Europe/Helsinki:20260506T170000
DTEND;TZID=Europe/Helsinki:20260506T190000
DTSTAMP:20260422T183000
CREATED:20260422T094723Z
LAST-MODIFIED:20260422T094819Z
UID:18923-1778086800-1778094000@pan.pl
SUMMARY:Webinarium "Sztuczna inteligencja w zootechnice i weterynarii: szanse i zagrożenia"
DESCRIPTION:
URL:https://pan.pl/wydarzenie/webinarium-sztuczna-inteligencja-w-zootechnice-i-weterynarii-szanse-i-zagrozenia/
LOCATION:spotkanie online
ATTACH;FMTTYPE=image/jpeg:https://pan.pl/app/uploads/2026/04/PLAKAT-1.jpg
END:VEVENT
END:VCALENDAR