BEGIN:VCALENDAR
VERSION:2.0
PRODID:-//Polska Akademia Nauk - ECPv6.9.1//NONSGML v1.0//EN
CALSCALE:GREGORIAN
METHOD:PUBLISH
X-WR-CALNAME:Polska Akademia Nauk
X-ORIGINAL-URL:https://pan.pl
X-WR-CALDESC:Events for Polska Akademia Nauk
REFRESH-INTERVAL;VALUE=DURATION:PT1H
X-Robots-Tag:noindex
X-PUBLISHED-TTL:PT1H
BEGIN:VTIMEZONE
TZID:Europe/Helsinki
BEGIN:DAYLIGHT
TZOFFSETFROM:+0200
TZOFFSETTO:+0300
TZNAME:EEST
DTSTART:20250330T010000
END:DAYLIGHT
BEGIN:STANDARD
TZOFFSETFROM:+0300
TZOFFSETTO:+0200
TZNAME:EET
DTSTART:20251026T010000
END:STANDARD
END:VTIMEZONE
BEGIN:VEVENT
DTSTART;TZID=Europe/Helsinki:20251126T180000
DTEND;TZID=Europe/Helsinki:20251126T200000
DTSTAMP:20260424T154428
CREATED:20251104T134658Z
LAST-MODIFIED:20251104T134658Z
UID:17025-1764180000-1764187200@pan.pl
SUMMARY:Wiedeń: Seminarium online: Franz Kafka. Dyskusja o filmie Agnieszki Holland „Franz”
DESCRIPTION:
URL:https://pan.pl/wydarzenie/wieden-seminarium-online-franz-kafka-dyskusja-o-filmie-agnieszki-holland-franz/
LOCATION:spotkanie online
ORGANIZER;CN="Stacja Naukowa w Wiedniu":MAILTO:office@vienna.pan.pl
END:VEVENT
END:VCALENDAR